BEGIN:VCALENDAR
VERSION:2.0
PRODID:-//Killarney Auction Mart - ECPv6.15.20//NONSGML v1.0//EN
CALSCALE:GREGORIAN
METHOD:PUBLISH
X-ORIGINAL-URL:https://killarneyauctionmart.ca
X-WR-CALDESC:Events for Killarney Auction Mart
REFRESH-INTERVAL;VALUE=DURATION:PT1H
X-Robots-Tag:noindex
X-PUBLISHED-TTL:PT1H
BEGIN:VTIMEZONE
TZID:America/Winnipeg
BEGIN:DAYLIGHT
TZOFFSETFROM:-0600
TZOFFSETTO:-0500
TZNAME:CDT
DTSTART:20140309T080000
END:DAYLIGHT
BEGIN:STANDARD
TZOFFSETFROM:-0500
TZOFFSETTO:-0600
TZNAME:CST
DTSTART:20141102T070000
END:STANDARD
BEGIN:DAYLIGHT
TZOFFSETFROM:-0600
TZOFFSETTO:-0500
TZNAME:CDT
DTSTART:20150308T080000
END:DAYLIGHT
BEGIN:STANDARD
TZOFFSETFROM:-0500
TZOFFSETTO:-0600
TZNAME:CST
DTSTART:20151101T070000
END:STANDARD
BEGIN:DAYLIGHT
TZOFFSETFROM:-0600
TZOFFSETTO:-0500
TZNAME:CDT
DTSTART:20160313T080000
END:DAYLIGHT
BEGIN:STANDARD
TZOFFSETFROM:-0500
TZOFFSETTO:-0600
TZNAME:CST
DTSTART:20161106T070000
END:STANDARD
END:VTIMEZONE
BEGIN:VEVENT
DTSTART;TZID=America/Winnipeg:20150317T130000
DTEND;TZID=America/Winnipeg:20150317T170000
DTSTAMP:20260419T161447
CREATED:20150218T012523Z
LAST-MODIFIED:20150220T215637Z
UID:2260-1426597200-1426611600@killarneyauctionmart.ca
SUMMARY:Prairie Partners Bull Sale
DESCRIPTION:  \nhttp://issuu.com/bouchardlivestock/docs/prairie_partners_2015_final_web
URL:https://killarneyauctionmart.ca/event/prairie-partners-bull-sale/
CATEGORIES:Special Sale
END:VEVENT
END:VCALENDAR