BEGIN:VCALENDAR
VERSION:2.0
PRODID:-//Killarney Auction Mart - ECPv6.15.20//NONSGML v1.0//EN
CALSCALE:GREGORIAN
METHOD:PUBLISH
X-ORIGINAL-URL:https://killarneyauctionmart.ca
X-WR-CALDESC:Events for Killarney Auction Mart
REFRESH-INTERVAL;VALUE=DURATION:PT1H
X-Robots-Tag:noindex
X-PUBLISHED-TTL:PT1H
BEGIN:VTIMEZONE
TZID:America/Winnipeg
BEGIN:DAYLIGHT
TZOFFSETFROM:-0600
TZOFFSETTO:-0500
TZNAME:CDT
DTSTART:20250309T080000
END:DAYLIGHT
BEGIN:STANDARD
TZOFFSETFROM:-0500
TZOFFSETTO:-0600
TZNAME:CST
DTSTART:20251102T070000
END:STANDARD
BEGIN:DAYLIGHT
TZOFFSETFROM:-0600
TZOFFSETTO:-0500
TZNAME:CDT
DTSTART:20260308T080000
END:DAYLIGHT
BEGIN:STANDARD
TZOFFSETFROM:-0500
TZOFFSETTO:-0600
TZNAME:CST
DTSTART:20261101T070000
END:STANDARD
BEGIN:DAYLIGHT
TZOFFSETFROM:-0600
TZOFFSETTO:-0500
TZNAME:CDT
DTSTART:20270314T080000
END:DAYLIGHT
BEGIN:STANDARD
TZOFFSETFROM:-0500
TZOFFSETTO:-0600
TZNAME:CST
DTSTART:20271107T070000
END:STANDARD
END:VTIMEZONE
BEGIN:VEVENT
DTSTART;TZID=America/Winnipeg:20260112T093000
DTEND;TZID=America/Winnipeg:20260112T170000
DTSTAMP:20260421T145340
CREATED:20251224T001310Z
LAST-MODIFIED:20251224T001310Z
UID:6876-1768210200-1768237200@killarneyauctionmart.ca
SUMMARY:First Sale of 2026
DESCRIPTION:
URL:https://killarneyauctionmart.ca/event/first-sale-of-2026/
CATEGORIES:Regular Sale,Special Sale
END:VEVENT
BEGIN:VEVENT
DTSTART;TZID=America/Winnipeg:20260119T093000
DTEND;TZID=America/Winnipeg:20260119T170000
DTSTAMP:20260421T145340
CREATED:20251224T001344Z
LAST-MODIFIED:20251224T001344Z
UID:6878-1768815000-1768842000@killarneyauctionmart.ca
SUMMARY:Regular Sale
DESCRIPTION:
URL:https://killarneyauctionmart.ca/event/regular-sale-331/
CATEGORIES:Regular Sale
END:VEVENT
BEGIN:VEVENT
DTSTART;TZID=America/Winnipeg:20260126T093000
DTEND;TZID=America/Winnipeg:20260126T170000
DTSTAMP:20260421T145340
CREATED:20251224T001414Z
LAST-MODIFIED:20251224T001414Z
UID:6880-1769419800-1769446800@killarneyauctionmart.ca
SUMMARY:Regular Sale
DESCRIPTION:
URL:https://killarneyauctionmart.ca/event/regular-sale-332/
CATEGORIES:Regular Sale
END:VEVENT
END:VCALENDAR