BEGIN:VCALENDAR
VERSION:2.0
PRODID:-//Killarney Auction Mart - ECPv6.15.20//NONSGML v1.0//EN
CALSCALE:GREGORIAN
METHOD:PUBLISH
X-ORIGINAL-URL:https://killarneyauctionmart.ca
X-WR-CALDESC:Events for Killarney Auction Mart
REFRESH-INTERVAL;VALUE=DURATION:PT1H
X-Robots-Tag:noindex
X-PUBLISHED-TTL:PT1H
BEGIN:VTIMEZONE
TZID:America/Winnipeg
BEGIN:DAYLIGHT
TZOFFSETFROM:-0600
TZOFFSETTO:-0500
TZNAME:CDT
DTSTART:20240310T080000
END:DAYLIGHT
BEGIN:STANDARD
TZOFFSETFROM:-0500
TZOFFSETTO:-0600
TZNAME:CST
DTSTART:20241103T070000
END:STANDARD
BEGIN:DAYLIGHT
TZOFFSETFROM:-0600
TZOFFSETTO:-0500
TZNAME:CDT
DTSTART:20250309T080000
END:DAYLIGHT
BEGIN:STANDARD
TZOFFSETFROM:-0500
TZOFFSETTO:-0600
TZNAME:CST
DTSTART:20251102T070000
END:STANDARD
BEGIN:DAYLIGHT
TZOFFSETFROM:-0600
TZOFFSETTO:-0500
TZNAME:CDT
DTSTART:20260308T080000
END:DAYLIGHT
BEGIN:STANDARD
TZOFFSETFROM:-0500
TZOFFSETTO:-0600
TZNAME:CST
DTSTART:20261101T070000
END:STANDARD
END:VTIMEZONE
BEGIN:VEVENT
DTSTART;VALUE=DATE:20250609
DTEND;VALUE=DATE:20250610
DTSTAMP:20260422T015220
CREATED:20250328T200941Z
LAST-MODIFIED:20250609T011727Z
UID:6493-1749427200-1749513599@killarneyauctionmart.ca
SUMMARY:Cow/Calf Pair\, Bred Cow & Final Regular Spring Sale
DESCRIPTION:Click HERE for full Lot listing\, complete with all details\nJune 9 2025 Pairs & Breds Sale  Full Details\nGordon Delichte 204-526-7502\n12 first calf Simmental Pair \n1 second calf Sim Pair \nCalves born January thru April 3 \nCows Express 10 preBreeding \nCalves Naselgen\, Express 5\, tasvax \nSteers knife-cut. Component implant \nCows exposed April 18\, Some with earlier AI Breeding \n    \nVandevelde Cattle Jarrod 204-825-4305\n16 SimX cows \nCalves started April 25 to May 10 \nBlackleg and steers banded \nGet Pyramid every year\, need booster this year \n \nHarmill Farms Gavin 204-534-7480 David 204-305-0269\n20 Black Angus Pairs \nHalf calves sim X \nCalves born April/May \nCows Pyramid FP%+ and ivomec \nCalves Pyramid FP5+ and Tasvax \nSteers are banded \nCows from first calvers to 6 years old \n  \n   \nBill Turner 204-534-7383\n10 Black and Few Grey Cows \nCalves born April\, First of May \nCows Bovashield and Blackleg \nCalves Bovashield One Shot and Blackleg and Toltrazuril Steers Banded \nNot Exposed \nRon Howarth Call Kyle 201-523-6770 \n18 Mostly Black some Red \nCalves born End March\, April \nCows Express \nCalves Pyramid\, Fermicon \nMales have been castrated \nNot Exposed \nTrevor and Derek Mowat Trevor 204-526-5307 Derek 204-526-0685 \n25 Bred Cows \nMostly White and some Tans \nBred Charolais \nShould calve June/July/Aug \n  \n  \n  \n 
URL:https://killarneyauctionmart.ca/event/final-regular-spring-sale/
CATEGORIES:Regular Sale,Special Sale
END:VEVENT
END:VCALENDAR